BEGIN:VCALENDAR
VERSION:2.0
PRODID:-//eventon.com NONSGML v1.0//EN
CALSCALE:GREGORIAN
METHOD:PUBLISH
BEGIN:VEVENT
UID:69e878698d4f6
DTSTAMP:20260422T072737Z
DTSTART:20240921T190000Z
DTEND:20240921T235900Z
LOCATION:The PAV
SUMMARY:Together
DESCRIPTION:\nhttps://hammondportauthority.com/events/together/
URL:https://hammondportauthority.com/events/together/
END:VEVENT
END:VCALENDAR