BEGIN:VCALENDAR
VERSION:2.0
PRODID:-//eventon.com NONSGML v1.0//EN
CALSCALE:GREGORIAN
METHOD:PUBLISH
BEGIN:VEVENT
UID:69e7519ccf6d6
DTSTAMP:20260421T102948Z
DTSTART:20240717T190000Z
DTEND:20240717T235900Z
LOCATION:Festival of the Lakes
SUMMARY:Blackstreet
DESCRIPTION:\nhttps://hammondportauthority.com/events/blackstreet/
URL:https://hammondportauthority.com/events/blackstreet/
END:VEVENT
END:VCALENDAR