BEGIN:VCALENDAR
VERSION:2.0
PRODID:-//eventon.com NONSGML v1.0//EN
CALSCALE:GREGORIAN
METHOD:PUBLISH
BEGIN:VEVENT
UID:69e895d3ac264
DTSTAMP:20260422T093307Z
DTSTART:20250720T190000Z
DTEND:20250720T235900Z
LOCATION:Festival of the Lakes
SUMMARY:La Arrolladora Banda El Limón de René Camacho
DESCRIPTION:\nhttps://hammondportauthority.com/events/la-arrolladora-banda-
 el-limon-de-rene-camacho/
URL:https://hammondportauthority.com/events/la-arrolladora-banda-el-limon-de-rene-camacho/
END:VEVENT
END:VCALENDAR