BEGIN:VCALENDAR
VERSION:2.0
PRODID:-//eventon.com NONSGML v1.0//EN
CALSCALE:GREGORIAN
METHOD:PUBLISH
BEGIN:VEVENT
UID:69e5b55f08cb0
DTSTAMP:20260420T051055Z
DTSTART:20250621T190000Z
DTEND:20250621T235900Z
LOCATION:The PAV
SUMMARY:Swift Nation
DESCRIPTION:\nhttps://hammondportauthority.com/events/swift-nation/
URL:https://hammondportauthority.com/events/swift-nation/
END:VEVENT
END:VCALENDAR