BEGIN:VCALENDAR
VERSION:2.0
PRODID:-//eventon.com NONSGML v1.0//EN
CALSCALE:GREGORIAN
METHOD:PUBLISH
BEGIN:VEVENT
UID:69e79677a1ed3
DTSTAMP:20260421T152335Z
DTSTART:20260613T190000Z
DTEND:20260613T235900Z
LOCATION:The PAV
SUMMARY:Hollywood Swinging
DESCRIPTION:\nhttps://hammondportauthority.com/events/hollywood-swinging-06
 1326/
URL:https://hammondportauthority.com/events/hollywood-swinging-061326/
END:VEVENT
END:VCALENDAR