BEGIN:VCALENDAR
VERSION:2.0
PRODID:-//eventon.com NONSGML v1.0//EN
CALSCALE:GREGORIAN
METHOD:PUBLISH
BEGIN:VEVENT
UID:69e79d737f84b
DTSTAMP:20260421T155323Z
DTSTART:20260620T190000Z
DTEND:20260620T235900Z
LOCATION:The PAV
SUMMARY:Sounds of Simon & Garfunkel
DESCRIPTION:\nhttps://hammondportauthority.com/events/sounds-of-simon-garfu
 nkel-062026/
URL:https://hammondportauthority.com/events/sounds-of-simon-garfunkel-062026/
END:VEVENT
END:VCALENDAR