BEGIN:VCALENDAR
VERSION:2.0
PRODID:-//eventon.com NONSGML v1.0//EN
CALSCALE:GREGORIAN
METHOD:PUBLISH
BEGIN:VEVENT
UID:69e79b147c5c8
DTSTAMP:20260421T154316Z
DTSTART:20260626T180000Z
DTEND:20260626T235900Z
LOCATION:The PAV
SUMMARY:Freestyle & House Party
DESCRIPTION:\nhttps://hammondportauthority.com/events/freestyle-house-party
 -062626/
URL:https://hammondportauthority.com/events/freestyle-house-party-062626/
END:VEVENT
END:VCALENDAR