BEGIN:VCALENDAR
VERSION:2.0
PRODID:-//eventon.com NONSGML v1.0//EN
CALSCALE:GREGORIAN
METHOD:PUBLISH
BEGIN:VEVENT
UID:69e797c16b690
DTSTAMP:20260421T152905Z
DTSTART:20260725T180000Z
DTEND:20260725T235900Z
LOCATION:The PAV
SUMMARY:Secondhand News
DESCRIPTION:\nhttps://hammondportauthority.com/events/secondhand-news-07252
 6/
URL:https://hammondportauthority.com/events/secondhand-news-072526/
END:VEVENT
END:VCALENDAR